Package: MLSeq Version: 2.24.0 Command: /Library/Frameworks/R.framework/Resources/bin/R CMD check --install=check:MLSeq.install-out.txt --library=/Library/Frameworks/R.framework/Resources/library --no-vignettes --timings MLSeq_2.24.0.tar.gz StartedAt: 2024-11-20 00:08:56 -0500 (Wed, 20 Nov 2024) EndedAt: 2024-11-20 00:15:40 -0500 (Wed, 20 Nov 2024) EllapsedTime: 404.6 seconds RetCode: 0 Status: OK CheckDir: MLSeq.Rcheck Warnings: 0