Package: MLSeq Version: 2.24.0 Command: /Library/Frameworks/R.framework/Resources/bin/R CMD build --keep-empty-dirs --no-resave-data MLSeq StartedAt: 2025-02-03 20:24:02 -0500 (Mon, 03 Feb 2025) EndedAt: 2025-02-03 20:28:50 -0500 (Mon, 03 Feb 2025) EllapsedTime: 288.2 seconds RetCode: 0 Status: OK PackageFile: MLSeq_2.24.0.tar.gz PackageFileSize: 599.7 KiB