Package: MLSeq Version: 2.24.0 Command: /Library/Frameworks/R.framework/Resources/bin/R CMD INSTALL MLSeq StartedAt: 2025-02-03 16:32:49 -0500 (Mon, 03 Feb 2025) EndedAt: 2025-02-03 16:34:02 -0500 (Mon, 03 Feb 2025) EllapsedTime: 73.0 seconds RetCode: 0 Status: OK