Package: MLSeq Version: 2.24.0 Command: /home/biocbuild/bbs-3.20-bioc/R/bin/R CMD build --keep-empty-dirs --no-resave-data --md5 MLSeq StartedAt: 2025-02-03 18:16:24 -0500 (Mon, 03 Feb 2025) EndedAt: 2025-02-03 18:18:02 -0500 (Mon, 03 Feb 2025) EllapsedTime: 98.1 seconds RetCode: 0 Status: OK PackageFile: MLSeq_2.24.0.tar.gz PackageFileSize: 642.6 KiB