Package: MLSeq Version: 2.24.0 Command: F:\biocbuild\bbs-3.20-bioc\R\bin\R.exe CMD INSTALL MLSeq StartedAt: 2025-02-03 17:09:15 -0500 (Mon, 03 Feb 2025) EndedAt: 2025-02-03 17:10:15 -0500 (Mon, 03 Feb 2025) EllapsedTime: 59.7 seconds RetCode: 0 Status: OK