Package: MLSeq Version: 2.24.0 Command: /home/biocbuild/R/R/bin/R CMD INSTALL MLSeq StartedAt: 2025-02-03 21:13:53 -0000 (Mon, 03 Feb 2025) EndedAt: 2025-02-03 21:14:36 -0000 (Mon, 03 Feb 2025) EllapsedTime: 43.0 seconds RetCode: 0 Status: OK