Package: MMDiff2 Version: 1.34.0 Command: /Library/Frameworks/R.framework/Resources/bin/R CMD check --install=check:MMDiff2.install-out.txt --library=/Library/Frameworks/R.framework/Resources/library --no-vignettes --timings MMDiff2_1.34.0.tar.gz StartedAt: 2025-01-31 06:39:29 -0500 (Fri, 31 Jan 2025) EndedAt: 2025-01-31 06:49:16 -0500 (Fri, 31 Jan 2025) EllapsedTime: 587.6 seconds RetCode: 0 Status: OK CheckDir: MMDiff2.Rcheck Warnings: 0