Package: MMUPHin Version: 1.20.0 Command: /Library/Frameworks/R.framework/Resources/bin/R CMD build --keep-empty-dirs --no-resave-data MMUPHin StartedAt: 2025-02-04 03:47:23 -0500 (Tue, 04 Feb 2025) EndedAt: 2025-02-04 03:48:41 -0500 (Tue, 04 Feb 2025) EllapsedTime: 78.1 seconds RetCode: 0 Status: OK PackageFile: MMUPHin_1.20.0.tar.gz PackageFileSize: 3.561 MiB