Package: MMUPHin Version: 1.20.0 Command: /home/biocbuild/R/R/bin/R CMD INSTALL MMUPHin StartedAt: 2024-11-19 21:13:01 -0000 (Tue, 19 Nov 2024) EndedAt: 2024-11-19 21:13:11 -0000 (Tue, 19 Nov 2024) EllapsedTime: 9.9 seconds RetCode: 0 Status: OK