Package: MMUPHin Version: 1.20.0 Command: /home/biocbuild/bbs-3.20-bioc/R/bin/R CMD build --keep-empty-dirs --no-resave-data --md5 MMUPHin StartedAt: 2025-02-03 18:16:59 -0500 (Mon, 03 Feb 2025) EndedAt: 2025-02-03 18:17:55 -0500 (Mon, 03 Feb 2025) EllapsedTime: 56.1 seconds RetCode: 0 Status: OK PackageFile: MMUPHin_1.20.0.tar.gz PackageFileSize: 3.691 MiB