Package: MMUPHin Version: 1.20.0 Command: /home/biocbuild/bbs-3.20-bioc/R/bin/R CMD INSTALL MMUPHin StartedAt: 2025-02-03 15:51:23 -0500 (Mon, 03 Feb 2025) EndedAt: 2025-02-03 15:51:31 -0500 (Mon, 03 Feb 2025) EllapsedTime: 7.4 seconds RetCode: 0 Status: OK