Package: MMUPHin Version: 1.20.0 Command: /home/biocbuild/R/R/bin/R CMD build --keep-empty-dirs --no-resave-data MMUPHin StartedAt: 2025-02-04 01:03:24 -0000 (Tue, 04 Feb 2025) EndedAt: 2025-02-04 01:04:48 -0000 (Tue, 04 Feb 2025) EllapsedTime: 84.0 seconds RetCode: 0 Status: OK PackageFile: MMUPHin_1.20.0.tar.gz PackageFileSize: 3.482 MiB