Package: MMUPHin Version: 1.20.0 Command: /home/biocbuild/R/R/bin/R CMD INSTALL MMUPHin StartedAt: 2025-02-03 21:05:54 -0000 (Mon, 03 Feb 2025) EndedAt: 2025-02-03 21:06:02 -0000 (Mon, 03 Feb 2025) EllapsedTime: 8.8 seconds RetCode: 0 Status: OK