Package: MMUPHin
Version: 1.20.0
Command: /home/biocbuild/bbs-3.20-bioc/R/bin/R CMD check --install=check:MMUPHin.install-out.txt --library=/home/biocbuild/bbs-3.20-bioc/R/site-library --timings MMUPHin_1.20.0.tar.gz
StartedAt: 2024-11-20 05:55:15 -0500 (Wed, 20 Nov 2024)
EndedAt: 2024-11-20 05:56:54 -0500 (Wed, 20 Nov 2024)
EllapsedTime: 99.1 seconds
RetCode: 0
Status: OK
CheckDir: MMUPHin.Rcheck
Warnings: 0