Package: MODA Version: 1.32.0 Command: /home/biocbuild/bbs-3.20-bioc/R/bin/R CMD build --keep-empty-dirs --no-resave-data --md5 MODA StartedAt: 2025-02-03 18:17:42 -0500 (Mon, 03 Feb 2025) EndedAt: 2025-02-03 18:17:43 -0500 (Mon, 03 Feb 2025) EllapsedTime: 1.0 seconds RetCode: 0 Status: OK PackageFile: MODA_1.32.0.tar.gz PackageFileSize: 297 KiB