Package: MODA Version: 1.32.0 Command: /home/biocbuild/bbs-3.20-bioc/R/bin/R CMD INSTALL MODA StartedAt: 2025-02-03 15:50:42 -0500 (Mon, 03 Feb 2025) EndedAt: 2025-02-03 15:51:01 -0500 (Mon, 03 Feb 2025) EllapsedTime: 18.5 seconds RetCode: 0 Status: OK