##############################################################################
##############################################################################
###
### Running command:
###
###   chmod a+r MODA -R && F:\biocbuild\bbs-3.20-bioc\R\bin\R.exe CMD build --keep-empty-dirs --no-resave-data MODA
###
##############################################################################
##############################################################################


* checking for file 'MODA/DESCRIPTION' ... OK
* preparing 'MODA':
* checking DESCRIPTION meta-information ... OK
* checking for LF line-endings in source and make files and shell scripts
* checking for empty or unneeded directories
* looking to see if a 'data/datalist' file should be added
* building 'MODA_1.31.0.tar.gz'