Package: MOFA2 Version: 1.16.0 Command: /Library/Frameworks/R.framework/Resources/bin/R CMD INSTALL MOFA2 StartedAt: 2025-02-03 15:37:57 -0500 (Mon, 03 Feb 2025) EndedAt: 2025-02-03 15:38:10 -0500 (Mon, 03 Feb 2025) EllapsedTime: 13.0 seconds RetCode: 0 Status: OK