Package: MOFA2 Version: 1.16.0 Command: /Library/Frameworks/R.framework/Resources/bin/R CMD build --keep-empty-dirs --no-resave-data MOFA2 StartedAt: 2024-11-08 18:12:05 -0500 (Fri, 08 Nov 2024) EndedAt: 2024-11-08 18:13:35 -0500 (Fri, 08 Nov 2024) EllapsedTime: 90.0 seconds RetCode: 0 Status: OK PackageFile: MOFA2_1.16.0.tar.gz PackageFileSize: 4.355 MiB