Package: MOFA2 Version: 1.16.0 Command: /Library/Frameworks/R.framework/Resources/bin/R CMD INSTALL MOFA2 StartedAt: 2024-11-08 15:19:49 -0500 (Fri, 08 Nov 2024) EndedAt: 2024-11-08 15:19:57 -0500 (Fri, 08 Nov 2024) EllapsedTime: 8.5 seconds RetCode: 0 Status: OK