Package: MOFA2
Version: 1.16.0
Command: /Library/Frameworks/R.framework/Resources/bin/R CMD build --keep-empty-dirs --no-resave-data MOFA2
StartedAt: 2024-11-19 17:40:25 -0500 (Tue, 19 Nov 2024)
EndedAt: 2024-11-19 17:43:24 -0500 (Tue, 19 Nov 2024)
EllapsedTime: 178.9 seconds
RetCode: 0
Status: OK
PackageFile: MOFA2_1.16.0.tar.gz
PackageFileSize: 4.355 <A href="http://en.wikipedia.org/wiki/MiB" target="_blank">MiB</A>