Package: MOFA2
Version: 1.16.0
Command: /Library/Frameworks/R.framework/Resources/bin/R CMD INSTALL MOFA2
StartedAt: 2024-11-19 15:13:39 -0500 (Tue, 19 Nov 2024)
EndedAt: 2024-11-19 15:14:13 -0500 (Tue, 19 Nov 2024)
EllapsedTime: 34.4 seconds
RetCode: 0
Status: OK