Package: MOFA2 Version: 1.16.0 Command: rm -rf MOFA2.buildbin-libdir && mkdir MOFA2.buildbin-libdir && /Users/biocbuild/BBS/utils/build-universal.sh MOFA2_1.16.0.tar.gz /Library/Frameworks/R.framework/Resources/bin/R MOFA2.buildbin-libdir StartedAt: 2025-02-04 13:29:08 -0500 (Tue, 04 Feb 2025) EndedAt: 2025-02-04 13:30:35 -0500 (Tue, 04 Feb 2025) EllapsedTime: 87.2 seconds RetCode: 0 Status: OK PackageFile: MOFA2_1.16.0.tgz PackageFileSize: 4.987 MiB