Package: MOGAMUN Version: 1.16.0 Command: /Library/Frameworks/R.framework/Resources/bin/R CMD check --install=check:MOGAMUN.install-out.txt --library=/Library/Frameworks/R.framework/Resources/library --no-vignettes --timings MOGAMUN_1.16.0.tar.gz StartedAt: 2025-02-05 02:29:23 -0500 (Wed, 05 Feb 2025) EndedAt: 2025-02-05 02:30:26 -0500 (Wed, 05 Feb 2025) EllapsedTime: 62.8 seconds RetCode: 0 Status: OK CheckDir: MOGAMUN.Rcheck Warnings: 0