Package: MOGAMUN Version: 1.16.0 Command: /home/biocbuild/bbs-3.20-bioc/R/bin/R CMD build --keep-empty-dirs --no-resave-data --md5 MOGAMUN StartedAt: 2025-02-10 18:10:41 -0500 (Mon, 10 Feb 2025) EndedAt: 2025-02-10 18:10:53 -0500 (Mon, 10 Feb 2025) EllapsedTime: 12.0 seconds RetCode: 0 Status: OK PackageFile: MOGAMUN_1.16.0.tar.gz PackageFileSize: 126.5 KiB