Package: MOGAMUN Version: 1.16.0 Command: /home/biocbuild/R/R/bin/R CMD build --keep-empty-dirs --no-resave-data MOGAMUN StartedAt: 2025-02-11 00:52:46 -0000 (Tue, 11 Feb 2025) EndedAt: 2025-02-11 00:53:02 -0000 (Tue, 11 Feb 2025) EllapsedTime: 16.0 seconds RetCode: 0 Status: OK PackageFile: MOGAMUN_1.16.0.tar.gz PackageFileSize: 125.7 KiB