Package: MOGAMUN Version: 1.16.0 Command: /home/biocbuild/R/R/bin/R CMD check --install=check:MOGAMUN.install-out.txt --library=/home/biocbuild/R/R/site-library --no-vignettes --timings MOGAMUN_1.16.0.tar.gz StartedAt: 2025-02-04 08:57:29 -0000 (Tue, 04 Feb 2025) EndedAt: 2025-02-04 08:58:30 -0000 (Tue, 04 Feb 2025) EllapsedTime: 61.1 seconds RetCode: 0 Status: OK CheckDir: MOGAMUN.Rcheck Warnings: 0