Package: MOSim Version: 2.2.0 Command: rm -rf MOSim.buildbin-libdir && mkdir MOSim.buildbin-libdir && /Users/biocbuild/BBS/utils/build-universal.sh MOSim_2.2.0.tar.gz /Library/Frameworks/R.framework/Resources/bin/R MOSim.buildbin-libdir StartedAt: 2025-02-05 16:45:58 -0500 (Wed, 05 Feb 2025) EndedAt: 2025-02-05 16:46:46 -0500 (Wed, 05 Feb 2025) EllapsedTime: 48.5 seconds RetCode: 0 Status: OK PackageFile: MOSim_2.2.0.tgz PackageFileSize: 6.448 MiB