Package: MOSim Version: 2.2.0 Command: /Library/Frameworks/R.framework/Resources/bin/R CMD INSTALL MOSim StartedAt: 2025-02-03 17:47:01 -0500 (Mon, 03 Feb 2025) EndedAt: 2025-02-03 17:47:50 -0500 (Mon, 03 Feb 2025) EllapsedTime: 48.6 seconds RetCode: 0 Status: OK