Package: MOSim Version: 2.2.0 Command: /Library/Frameworks/R.framework/Resources/bin/R CMD build --keep-empty-dirs --no-resave-data MOSim StartedAt: 2025-02-03 20:30:36 -0500 (Mon, 03 Feb 2025) EndedAt: 2025-02-03 20:48:44 -0500 (Mon, 03 Feb 2025) EllapsedTime: 1088.5 seconds RetCode: 0 Status: OK PackageFile: MOSim_2.2.0.tar.gz PackageFileSize: 5.937 MiB