Package: MOSim Version: 2.2.0 Command: /Library/Frameworks/R.framework/Resources/bin/R CMD check --install=check:MOSim.install-out.txt --library=/Library/Frameworks/R.framework/Resources/library --no-vignettes --timings MOSim_2.2.0.tar.gz StartedAt: 2025-02-04 06:39:51 -0500 (Tue, 04 Feb 2025) EndedAt: 2025-02-04 07:08:00 -0500 (Tue, 04 Feb 2025) EllapsedTime: 1689.9 seconds RetCode: 0 Status: WARNINGS CheckDir: MOSim.Rcheck Warnings: 1