Package: MOSim Version: 2.2.0 Command: /home/biocbuild/bbs-3.20-bioc/R/bin/R CMD build --keep-empty-dirs --no-resave-data --md5 MOSim StartedAt: 2025-02-03 18:20:04 -0500 (Mon, 03 Feb 2025) EndedAt: 2025-02-03 18:25:49 -0500 (Mon, 03 Feb 2025) EllapsedTime: 345.4 seconds RetCode: 0 Status: OK PackageFile: MOSim_2.2.0.tar.gz PackageFileSize: 5.94 MiB