Package: MOSim Version: 2.2.0 Command: /home/biocbuild/R/R/bin/R CMD build --keep-empty-dirs --no-resave-data MOSim StartedAt: 2025-02-04 01:07:59 -0000 (Tue, 04 Feb 2025) EndedAt: 2025-02-04 01:16:40 -0000 (Tue, 04 Feb 2025) EllapsedTime: 521.2 seconds RetCode: 0 Status: OK PackageFile: MOSim_2.2.0.tar.gz PackageFileSize: 5.937 MiB