Package: MOSim Version: 2.2.0 Command: /home/biocbuild/R/R/bin/R CMD check --install=check:MOSim.install-out.txt --library=/home/biocbuild/R/R/site-library --no-vignettes --timings MOSim_2.2.0.tar.gz StartedAt: 2025-02-04 09:00:15 -0000 (Tue, 04 Feb 2025) EndedAt: 2025-02-04 09:15:52 -0000 (Tue, 04 Feb 2025) EllapsedTime: 936.4 seconds RetCode: 0 Status: WARNINGS CheckDir: MOSim.Rcheck Warnings: 1