Package: MPAC Version: 1.0.0 Command: /Library/Frameworks/R.framework/Resources/bin/R CMD check --install=check:MPAC.install-out.txt --library=/Library/Frameworks/R.framework/Resources/library --no-vignettes --timings MPAC_1.0.0.tar.gz StartedAt: 2025-02-05 02:53:01 -0500 (Wed, 05 Feb 2025) EndedAt: 2025-02-05 02:57:20 -0500 (Wed, 05 Feb 2025) EllapsedTime: 258.9 seconds RetCode: 0 Status: OK CheckDir: MPAC.Rcheck Warnings: 0