Package: MPAC
Version: 1.0.0
Command: /Library/Frameworks/R.framework/Resources/bin/R CMD INSTALL MPAC
StartedAt: 2025-02-17 17:54:55 -0500 (Mon, 17 Feb 2025)
EndedAt: 2025-02-17 17:55:29 -0500 (Mon, 17 Feb 2025)
EllapsedTime: 34.8 seconds
RetCode: 0
Status: OK