Package: MPAC Version: 1.0.0 Command: rm -rf MPAC.buildbin-libdir && mkdir MPAC.buildbin-libdir && /Users/biocbuild/BBS/utils/build-universal.sh MPAC_1.0.0.tar.gz /Library/Frameworks/R.framework/Resources/bin/R MPAC.buildbin-libdir StartedAt: 2025-02-04 13:30:53 -0500 (Tue, 04 Feb 2025) EndedAt: 2025-02-04 13:32:41 -0500 (Tue, 04 Feb 2025) EllapsedTime: 107.7 seconds RetCode: 0 Status: OK PackageFile: MPAC_1.0.0.tgz PackageFileSize: 670.6 KiB