Package: MPAC Version: 1.0.0 Command: /Library/Frameworks/R.framework/Resources/bin/R CMD build --keep-empty-dirs --no-resave-data MPAC StartedAt: 2025-02-03 20:35:54 -0500 (Mon, 03 Feb 2025) EndedAt: 2025-02-03 20:37:51 -0500 (Mon, 03 Feb 2025) EllapsedTime: 117.5 seconds RetCode: 0 Status: OK PackageFile: MPAC_1.0.0.tar.gz PackageFileSize: 684.5 KiB