Package: MPAC Version: 1.0.0 Command: /Library/Frameworks/R.framework/Resources/bin/R CMD INSTALL MPAC StartedAt: 2025-02-03 16:38:02 -0500 (Mon, 03 Feb 2025) EndedAt: 2025-02-03 16:39:05 -0500 (Mon, 03 Feb 2025) EllapsedTime: 62.7 seconds RetCode: 0 Status: OK