Package: MPAC Version: 1.0.0 Command: /home/biocbuild/bbs-3.20-bioc/R/bin/R CMD build --keep-empty-dirs --no-resave-data --md5 MPAC StartedAt: 2025-02-03 18:21:06 -0500 (Mon, 03 Feb 2025) EndedAt: 2025-02-03 18:21:56 -0500 (Mon, 03 Feb 2025) EllapsedTime: 50.0 seconds RetCode: 0 Status: OK PackageFile: MPAC_1.0.0.tar.gz PackageFileSize: 687.9 KiB