Package: MPAC Version: 1.0.0 Command: /home/biocbuild/bbs-3.20-bioc/R/bin/R CMD check --install=check:MPAC.install-out.txt --library=/home/biocbuild/bbs-3.20-bioc/R/site-library --timings MPAC_1.0.0.tar.gz StartedAt: 2025-02-04 00:23:07 -0500 (Tue, 04 Feb 2025) EndedAt: 2025-02-04 00:27:11 -0500 (Tue, 04 Feb 2025) EllapsedTime: 244.2 seconds RetCode: 0 Status: OK CheckDir: MPAC.Rcheck Warnings: 0