Package: MPAC Version: 1.0.0 Command: /home/biocbuild/bbs-3.20-bioc/R/bin/R CMD INSTALL MPAC StartedAt: 2025-02-03 16:02:22 -0500 (Mon, 03 Feb 2025) EndedAt: 2025-02-03 16:02:53 -0500 (Mon, 03 Feb 2025) EllapsedTime: 31.4 seconds RetCode: 0 Status: OK