Package: MPAC
Version: 0.99.14
Command: chmod a+r MPAC -R && C:\Users\biocbuild\bbs-3.20-bioc\R\bin\R.exe CMD build --keep-empty-dirs --no-resave-data MPAC
StartedAt: 2024-07-15 19:21:00 -0400 (Mon, 15 Jul 2024)
EndedAt: 2024-07-15 19:22:12 -0400 (Mon, 15 Jul 2024)
EllapsedTime: 71.5 seconds
RetCode: 0
Status: OK
PackageFile: MPAC_0.99.14.tar.gz
PackageFileSize: 685.1 <A href="http://en.wikipedia.org/wiki/KiB" target="_blank">KiB</A>