Package: MPAC Version: 1.0.0 Command: rm -rf MPAC.buildbin-libdir && mkdir MPAC.buildbin-libdir && F:\biocbuild\bbs-3.20-bioc\R\bin\R.exe CMD INSTALL --build --library=MPAC.buildbin-libdir MPAC_1.0.0.tar.gz StartedAt: 2025-02-04 08:59:26 -0500 (Tue, 04 Feb 2025) EndedAt: 2025-02-04 09:00:10 -0500 (Tue, 04 Feb 2025) EllapsedTime: 43.8 seconds RetCode: 0 Status: OK PackageFile: MPAC_1.0.0.zip PackageFileSize: 686 KiB