Package: MPFE Version: 1.42.0 Command: /Library/Frameworks/R.framework/Resources/bin/R CMD INSTALL MPFE StartedAt: 2025-01-30 15:04:35 -0500 (Thu, 30 Jan 2025) EndedAt: 2025-01-30 15:04:37 -0500 (Thu, 30 Jan 2025) EllapsedTime: 2.6 seconds RetCode: 0 Status: OK