Package: MPFE Version: 1.42.0 Command: /Library/Frameworks/R.framework/Resources/bin/R CMD INSTALL MPFE StartedAt: 2024-11-08 15:12:34 -0500 (Fri, 08 Nov 2024) EndedAt: 2024-11-08 15:12:36 -0500 (Fri, 08 Nov 2024) EllapsedTime: 2.3 seconds RetCode: 0 Status: OK