Package: MPFE Version: 1.42.0 Command: /Library/Frameworks/R.framework/Resources/bin/R CMD check --install=check:MPFE.install-out.txt --library=/Library/Frameworks/R.framework/Resources/library --no-vignettes --timings MPFE_1.42.0.tar.gz StartedAt: 2025-01-31 06:50:49 -0500 (Fri, 31 Jan 2025) EndedAt: 2025-01-31 06:51:30 -0500 (Fri, 31 Jan 2025) EllapsedTime: 40.9 seconds RetCode: 0 Status: OK CheckDir: MPFE.Rcheck Warnings: 0