Package: MPFE Version: 1.42.0 Command: /Library/Frameworks/R.framework/Resources/bin/R CMD INSTALL MPFE StartedAt: 2025-01-30 15:06:54 -0500 (Thu, 30 Jan 2025) EndedAt: 2025-01-30 15:07:08 -0500 (Thu, 30 Jan 2025) EllapsedTime: 14.1 seconds RetCode: 0 Status: OK