Package: MPRAnalyze Version: 1.24.0 Command: /Library/Frameworks/R.framework/Resources/bin/R CMD build --keep-empty-dirs --no-resave-data MPRAnalyze StartedAt: 2025-01-31 03:59:00 -0500 (Fri, 31 Jan 2025) EndedAt: 2025-01-31 04:00:19 -0500 (Fri, 31 Jan 2025) EllapsedTime: 78.9 seconds RetCode: 0 Status: OK PackageFile: MPRAnalyze_1.24.0.tar.gz PackageFileSize: 402.2 KiB