Package: MPRAnalyze Version: 1.24.0 Command: /Library/Frameworks/R.framework/Resources/bin/R CMD INSTALL MPRAnalyze StartedAt: 2025-02-03 16:09:09 -0500 (Mon, 03 Feb 2025) EndedAt: 2025-02-03 16:09:36 -0500 (Mon, 03 Feb 2025) EllapsedTime: 27.1 seconds RetCode: 0 Status: OK